BEGIN:VCALENDAR
VERSION:2.0
PRODID:-//Canadian Boating - ECPv6.15.16//NONSGML v1.0//EN
CALSCALE:GREGORIAN
METHOD:PUBLISH
X-WR-CALNAME:Canadian Boating
X-ORIGINAL-URL:https://canadianboating.ca
X-WR-CALDESC:Events for Canadian Boating
REFRESH-INTERVAL;VALUE=DURATION:PT1H
X-Robots-Tag:noindex
X-PUBLISHED-TTL:PT1H
BEGIN:VTIMEZONE
TZID:America/Toronto
BEGIN:DAYLIGHT
TZOFFSETFROM:-0500
TZOFFSETTO:-0400
TZNAME:EDT
DTSTART:20240310T070000
END:DAYLIGHT
BEGIN:STANDARD
TZOFFSETFROM:-0400
TZOFFSETTO:-0500
TZNAME:EST
DTSTART:20241103T060000
END:STANDARD
BEGIN:DAYLIGHT
TZOFFSETFROM:-0500
TZOFFSETTO:-0400
TZNAME:EDT
DTSTART:20250309T070000
END:DAYLIGHT
BEGIN:STANDARD
TZOFFSETFROM:-0400
TZOFFSETTO:-0500
TZNAME:EST
DTSTART:20251102T060000
END:STANDARD
BEGIN:DAYLIGHT
TZOFFSETFROM:-0500
TZOFFSETTO:-0400
TZNAME:EDT
DTSTART:20260308T070000
END:DAYLIGHT
BEGIN:STANDARD
TZOFFSETFROM:-0400
TZOFFSETTO:-0500
TZNAME:EST
DTSTART:20261101T060000
END:STANDARD
END:VTIMEZONE
BEGIN:VEVENT
DTSTART;VALUE=DATE:20250530
DTEND;VALUE=DATE:20250602
DTSTAMP:20260421T195402
CREATED:20250410T154031Z
LAST-MODIFIED:20250410T154031Z
UID:9003241321016952-1748563200-1748822399@canadianboating.ca
SUMMARY:BMW Lasqueti Island Regatta
DESCRIPTION:
URL:https://canadianboating.ca/calendar/bmw-lasqueti-island-regatta/
LOCATION:Schooner Cove Yacht Club\, Nanoose Bay\, British Columbia\, Canada
CATEGORIES:Regional/Local
END:VEVENT
BEGIN:VEVENT
DTSTART;VALUE=DATE:20250531
DTEND;VALUE=DATE:20250602
DTSTAMP:20260421T195402
CREATED:20250410T153817Z
LAST-MODIFIED:20250410T153817Z
UID:9003241321016950-1748649600-1748822399@canadianboating.ca
SUMMARY:Jericho Classic Regatta
DESCRIPTION:
URL:https://canadianboating.ca/calendar/jericho-classic-regatta/
LOCATION:Jericho Sailing Centre in Vancouver\, B.C\, Jericho Sailing Centre in Vancouver\, B.C
CATEGORIES:Regional/Local
END:VEVENT
BEGIN:VEVENT
DTSTART;VALUE=DATE:20250607
DTEND;VALUE=DATE:20250608
DTSTAMP:20260421T195402
CREATED:20250429T151013Z
LAST-MODIFIED:20250429T151055Z
UID:9003241321017283-1749254400-1749340799@canadianboating.ca
SUMMARY:5th Annual Newport Shoot-Out Salmon Fishing Tournament
DESCRIPTION:
URL:https://canadianboating.ca/calendar/5th-annual-newport-shoot-out-salmon-fishing-tournament/
LOCATION:Newport Yacht Club\, 711 North Service Road\, Stoney Creek\, Ontario\, Canada
CATEGORIES:Regional/Local
ATTACH;FMTTYPE=image/jpeg:https://canadianboating.ca/wp-content/uploads/2025/04/Newport-Shoot-out.jpg
END:VEVENT
BEGIN:VEVENT
DTSTART;VALUE=DATE:20250607
DTEND;VALUE=DATE:20250609
DTSTAMP:20260421T195402
CREATED:20250520T163444Z
LAST-MODIFIED:20250520T163444Z
UID:9003241321017776-1749254400-1749427199@canadianboating.ca
SUMMARY:2025 Shark Coupe Du Quebec Regatta
DESCRIPTION:
URL:https://canadianboating.ca/calendar/2025-shark-coupe-du-quebec-regatta/
LOCATION:Pointe Claire Yacht Club\, 1 Cartier Ave\, Pointe-Claire\, Quebec\, Canada
CATEGORIES:Regional/Local
END:VEVENT
BEGIN:VEVENT
DTSTART;VALUE=DATE:20250614
DTEND;VALUE=DATE:20250615
DTSTAMP:20260421T195402
CREATED:20250416T170653Z
LAST-MODIFIED:20250416T170653Z
UID:9003241321017051-1749859200-1749945599@canadianboating.ca
SUMMARY:Trent-Severn Antique Boat Association - Shop Day & Flea Market
DESCRIPTION:
URL:https://canadianboating.ca/calendar/trent-severn-antique-boat-association-shop-day-flea-market/
LOCATION:Woodwind Yachts\, Nestleton\, Ontario\, Canada
CATEGORIES:Regional/Local
END:VEVENT
BEGIN:VEVENT
DTSTART;VALUE=DATE:20250620
DTEND;VALUE=DATE:20250623
DTSTAMP:20260421T195402
CREATED:20250421T193858Z
LAST-MODIFIED:20250421T193858Z
UID:9003241321017130-1750377600-1750636799@canadianboating.ca
SUMMARY:Nepean One Design (NOD) Regatta
DESCRIPTION:
URL:https://canadianboating.ca/calendar/nepean-one-design-nod-regatta/
LOCATION:Nepean Sailing Club\, Ottawa\, ON\, Nepean Sailing Club\, Ottawa\, ON
CATEGORIES:Regional/Local
END:VEVENT
BEGIN:VEVENT
DTSTART;VALUE=DATE:20250621
DTEND;VALUE=DATE:20250623
DTSTAMP:20260421T195402
CREATED:20250617T183803Z
LAST-MODIFIED:20250617T183803Z
UID:9003241321018574-1750464000-1750636799@canadianboating.ca
SUMMARY:Fanshawe Yacht Club - June Bug Regatta
DESCRIPTION:
URL:https://canadianboating.ca/calendar/fanshawe-yacht-club-june-bug-regatta/
LOCATION:Fanshawe Yacht Club\, London\, ON\, Fanshawe Yacht Club\, London\, ON
CATEGORIES:Regional/Local
END:VEVENT
BEGIN:VEVENT
DTSTART;VALUE=DATE:20250621
DTEND;VALUE=DATE:20250624
DTSTAMP:20260421T195402
CREATED:20250416T171725Z
LAST-MODIFIED:20250416T171725Z
UID:9003241321017065-1750464000-1750723199@canadianboating.ca
SUMMARY:Western Canadian Antique and Classic Boat Society Antique and Classic Boat Show
DESCRIPTION:
URL:https://canadianboating.ca/calendar/western-canadian-antique-and-classic-boat-society-antique-and-classic-boat-show/
LOCATION:Penticton Yacht Club\, Penticton\, British Columbia\, Canada
CATEGORIES:Regional/Local
END:VEVENT
BEGIN:VEVENT
DTSTART;TZID=America/Toronto:20250621T080000
DTEND;TZID=America/Toronto:20250621T170000
DTSTAMP:20260421T195402
CREATED:20250410T152005Z
LAST-MODIFIED:20250410T152325Z
UID:9003241321016923-1750492800-1750525200@canadianboating.ca
SUMMARY:WVYC 2025 One Design Series
DESCRIPTION:
URL:https://canadianboating.ca/calendar/2025-one-design-series-wrap-up-regatta-3/
LOCATION:West Vancouver Yacht Club\, Vancouver\, BC\, West Vancouver Yacht Club\, Vancouver\, BC
CATEGORIES:Regional/Local
END:VEVENT
END:VCALENDAR