BEGIN:VCALENDAR
VERSION:2.0
PRODID:-//Canadian Boating - ECPv6.15.16//NONSGML v1.0//EN
CALSCALE:GREGORIAN
METHOD:PUBLISH
X-WR-CALNAME:Canadian Boating
X-ORIGINAL-URL:https://canadianboating.ca
X-WR-CALDESC:Events for Canadian Boating
REFRESH-INTERVAL;VALUE=DURATION:PT1H
X-Robots-Tag:noindex
X-PUBLISHED-TTL:PT1H
BEGIN:VTIMEZONE
TZID:America/Toronto
BEGIN:DAYLIGHT
TZOFFSETFROM:-0500
TZOFFSETTO:-0400
TZNAME:EDT
DTSTART:20240310T070000
END:DAYLIGHT
BEGIN:STANDARD
TZOFFSETFROM:-0400
TZOFFSETTO:-0500
TZNAME:EST
DTSTART:20241103T060000
END:STANDARD
BEGIN:DAYLIGHT
TZOFFSETFROM:-0500
TZOFFSETTO:-0400
TZNAME:EDT
DTSTART:20250309T070000
END:DAYLIGHT
BEGIN:STANDARD
TZOFFSETFROM:-0400
TZOFFSETTO:-0500
TZNAME:EST
DTSTART:20251102T060000
END:STANDARD
BEGIN:DAYLIGHT
TZOFFSETFROM:-0500
TZOFFSETTO:-0400
TZNAME:EDT
DTSTART:20260308T070000
END:DAYLIGHT
BEGIN:STANDARD
TZOFFSETFROM:-0400
TZOFFSETTO:-0500
TZNAME:EST
DTSTART:20261101T060000
END:STANDARD
END:VTIMEZONE
BEGIN:VEVENT
DTSTART;VALUE=DATE:20250502
DTEND;VALUE=DATE:20250505
DTSTAMP:20260421T212035
CREATED:20250303T180219Z
LAST-MODIFIED:20250303T180219Z
UID:9003241321016107-1746144000-1746403199@canadianboating.ca
SUMMARY:Mid-Island Sail Training (MIST)
DESCRIPTION:MIST (Mid Island Sail Training) is intended to help BCA members become more competent\, self-sufficient sailors focusing on more traditional skills rather than relying on the latest technology to save the day. \n 
URL:https://canadianboating.ca/calendar/mid-island-sail-training-mist/
LOCATION:Montague Harbour\, Galiano Island\, British Columbia\, Canada
CATEGORIES:Regional/Local
END:VEVENT
BEGIN:VEVENT
DTSTART;VALUE=DATE:20250503
DTEND;VALUE=DATE:20250504
DTSTAMP:20260421T212035
CREATED:20250303T180412Z
LAST-MODIFIED:20250303T180412Z
UID:9003241321016110-1746230400-1746316799@canadianboating.ca
SUMMARY:Vancouver 2025 - Advanced Diesel (Class #1)
DESCRIPTION:This is a 1 day (repeated on Sunday)\, hands-on course for boat owners who already have a good basic knowledge of the operation and maintenance of diesel engines\, from the Basic & Intermediate courses. In this small class\, students will work on an operational diesel engine on a stand in a garage\, changing key components such as the alternator\, starter and injectors. \nTo learn more about this event\, please click the link below.
URL:https://canadianboating.ca/calendar/vancouver-2025-advanced-diesel-class-1/
LOCATION:Vancouver\, British Columbia\, Canada
CATEGORIES:Regional/Local
END:VEVENT
BEGIN:VEVENT
DTSTART;VALUE=DATE:20250503
DTEND;VALUE=DATE:20250504
DTSTAMP:20260421T212035
CREATED:20250416T171222Z
LAST-MODIFIED:20250416T171222Z
UID:9003241321017057-1746230400-1746316799@canadianboating.ca
SUMMARY:Manotick Classic Boat Club - Wooden Boat Shop Tour
DESCRIPTION:
URL:https://canadianboating.ca/calendar/manotick-classic-boat-club-wooden-boat-shop-tour/
LOCATION:Manotick Classic Boat Club\, Rideau Ferry\, ON\, Manotick Classic Boat Club\, Rideau Ferry\, ON  
CATEGORIES:Regional/Local
END:VEVENT
BEGIN:VEVENT
DTSTART;VALUE=DATE:20250503
DTEND;VALUE=DATE:20250505
DTSTAMP:20260421T212035
CREATED:20250311T142429Z
LAST-MODIFIED:20250311T142429Z
UID:9003241321016376-1746230400-1746403199@canadianboating.ca
SUMMARY:Spring Dinghies Regatta
DESCRIPTION:
URL:https://canadianboating.ca/calendar/spring-dinghies-regatta/
LOCATION:Royal Victoria Yacht Club\, 3475 Ripon Rd\, Victoria\, BC\, Royal Victoria Yacht Club\, 3475 Ripon Rd\, Victoria\, BC
CATEGORIES:Regional/Local
END:VEVENT
BEGIN:VEVENT
DTSTART;VALUE=DATE:20250504
DTEND;VALUE=DATE:20250505
DTSTAMP:20260421T212035
CREATED:20250303T180623Z
LAST-MODIFIED:20250303T180623Z
UID:9003241321016114-1746316800-1746403199@canadianboating.ca
SUMMARY:Vancouver 2025 - Advanced Diesel (Class #2)
DESCRIPTION:This is a 1-day hands-on course (a repeat of Saturday’s) for boat owners who already have a good basic knowledge of the operation and maintenance of diesel engines\, from the Basic & Intermediate courses. In this small class\, students will work on an operational diesel engine on a stand in a garage\, changing key components such as the alternator\, starter and injectors. \nTo learn more about this event\, please click the link below.
URL:https://canadianboating.ca/calendar/vancouver-2025-advanced-diesel-class-2/
LOCATION:Vancouver\, British Columbia\, Canada
CATEGORIES:Regional/Local
END:VEVENT
BEGIN:VEVENT
DTSTART;VALUE=DATE:20250510
DTEND;VALUE=DATE:20250512
DTSTAMP:20260421T212035
CREATED:20250410T153049Z
LAST-MODIFIED:20250410T153049Z
UID:9003241321016940-1746835200-1747007999@canadianboating.ca
SUMMARY:29th Annual Thetis Island Regatta
DESCRIPTION:
URL:https://canadianboating.ca/calendar/29th-annual-thetis-island-regatta/
LOCATION:Maple Bay Yacht CLub\, 6337 Genoa Bay Rd.\, Duncan\, British Columbia\, Canada
CATEGORIES:Regional/Local
END:VEVENT
BEGIN:VEVENT
DTSTART;VALUE=DATE:20250516
DTEND;VALUE=DATE:20250519
DTSTAMP:20260421T212035
CREATED:20250410T153320Z
LAST-MODIFIED:20250410T153320Z
UID:9003241321016943-1747353600-1747612799@canadianboating.ca
SUMMARY:Round Saltspring Race 2025
DESCRIPTION:
URL:https://canadianboating.ca/calendar/round-saltspring-race-2025/
LOCATION:SISC\, 152 Douglas Rd\, Salt Spring Island\, British Columbia\, Canada
CATEGORIES:Regional/Local
END:VEVENT
BEGIN:VEVENT
DTSTART;VALUE=DATE:20250517
DTEND;VALUE=DATE:20250518
DTSTAMP:20260421T212035
CREATED:20250416T170517Z
LAST-MODIFIED:20250416T170517Z
UID:9003241321017048-1747440000-1747526399@canadianboating.ca
SUMMARY:Trent-Severn Antique Boat Association - Test and Tune Day
DESCRIPTION:
URL:https://canadianboating.ca/calendar/trent-severn-antique-boat-association-test-and-tune-day/
LOCATION:Chemong Lake\, Ontario\, Canada
CATEGORIES:Regional/Local
END:VEVENT
BEGIN:VEVENT
DTSTART;VALUE=DATE:20250518
DTEND;VALUE=DATE:20250519
DTSTAMP:20260421T212035
CREATED:20250410T151932Z
LAST-MODIFIED:20250410T152347Z
UID:9003241321016921-1747526400-1747612799@canadianboating.ca
SUMMARY:WVYC 2025 One Design Series
DESCRIPTION:
URL:https://canadianboating.ca/calendar/2025-one-design-series-wrap-up-regatta-2/
LOCATION:West Vancouver Yacht Club\, Vancouver\, BC\, West Vancouver Yacht Club\, Vancouver\, BC
CATEGORIES:Regional/Local
END:VEVENT
BEGIN:VEVENT
DTSTART;VALUE=DATE:20250523
DTEND;VALUE=DATE:20250526
DTSTAMP:20260421T212035
CREATED:20250410T153626Z
LAST-MODIFIED:20250410T153626Z
UID:9003241321016948-1747958400-1748217599@canadianboating.ca
SUMMARY:Blossom Time Regatta
DESCRIPTION:
URL:https://canadianboating.ca/calendar/blossom-time-regatta/
LOCATION:Kelowna Yacht Club\, Kelowna\, BC\, Kelowna Yacht Club\, Kelowna\, BC
CATEGORIES:Regional/Local
END:VEVENT
BEGIN:VEVENT
DTSTART;VALUE=DATE:20250524
DTEND;VALUE=DATE:20250526
DTSTAMP:20260421T212035
CREATED:20250303T203134Z
LAST-MODIFIED:20250303T203134Z
UID:9003241321016143-1748044800-1748217599@canadianboating.ca
SUMMARY:2025 Shark Trillium Regatta
DESCRIPTION:
URL:https://canadianboating.ca/calendar/2025-shark-trillium-regatta/
LOCATION:Royal Canadian Yacht Club\, Toronto\, ON\, Royal Canadian Yacht Club\, Toronto\, ON
CATEGORIES:Regional/Local
END:VEVENT
BEGIN:VEVENT
DTSTART;VALUE=DATE:20250530
DTEND;VALUE=DATE:20250602
DTSTAMP:20260421T212035
CREATED:20250410T154031Z
LAST-MODIFIED:20250410T154031Z
UID:9003241321016952-1748563200-1748822399@canadianboating.ca
SUMMARY:BMW Lasqueti Island Regatta
DESCRIPTION:
URL:https://canadianboating.ca/calendar/bmw-lasqueti-island-regatta/
LOCATION:Schooner Cove Yacht Club\, Nanoose Bay\, British Columbia\, Canada
CATEGORIES:Regional/Local
END:VEVENT
BEGIN:VEVENT
DTSTART;VALUE=DATE:20250531
DTEND;VALUE=DATE:20250601
DTSTAMP:20260421T212035
CREATED:20250416T171400Z
LAST-MODIFIED:20250416T171400Z
UID:9003241321017059-1748649600-1748735999@canadianboating.ca
SUMMARY:Merrickville Wooden Boat Show
DESCRIPTION:
URL:https://canadianboating.ca/calendar/merrickville-wooden-boat-show/
LOCATION:Merrickville\, Merrickville\, Ontario\, Canada
CATEGORIES:Regional/Local
END:VEVENT
BEGIN:VEVENT
DTSTART;VALUE=DATE:20250531
DTEND;VALUE=DATE:20250601
DTSTAMP:20260421T212035
CREATED:20250416T172020Z
LAST-MODIFIED:20250416T172020Z
UID:9003241321017068-1748649600-1748735999@canadianboating.ca
SUMMARY:Maple Leaf Antique Outboard Club - Member Appreciation Day
DESCRIPTION:
URL:https://canadianboating.ca/calendar/maple-leaf-antique-outboard-club-member-appreciation-day/
LOCATION:Canadian Raceboat Hall of Fame\, Muskoka Lakes\, Ontario\, Canada
CATEGORIES:Regional/Local
END:VEVENT
BEGIN:VEVENT
DTSTART;VALUE=DATE:20250531
DTEND;VALUE=DATE:20250601
DTSTAMP:20260421T212035
CREATED:20250429T150603Z
LAST-MODIFIED:20250429T150811Z
UID:9003241321017277-1748649600-1748735999@canadianboating.ca
SUMMARY:Open House: Newport Yacht Club
DESCRIPTION:
URL:https://canadianboating.ca/calendar/open-house-newport-yacht-club/
LOCATION:Newport Yacht Club\, 711 North Service Road\, Stoney Creek\, Ontario\, Canada
CATEGORIES:Regional/Local
ATTACH;FMTTYPE=image/png:https://canadianboating.ca/wp-content/uploads/2025/04/Newport-Open-house.png
END:VEVENT
BEGIN:VEVENT
DTSTART;VALUE=DATE:20250531
DTEND;VALUE=DATE:20250602
DTSTAMP:20260421T212035
CREATED:20250410T153817Z
LAST-MODIFIED:20250410T153817Z
UID:9003241321016950-1748649600-1748822399@canadianboating.ca
SUMMARY:Jericho Classic Regatta
DESCRIPTION:
URL:https://canadianboating.ca/calendar/jericho-classic-regatta/
LOCATION:Jericho Sailing Centre in Vancouver\, B.C\, Jericho Sailing Centre in Vancouver\, B.C
CATEGORIES:Regional/Local
END:VEVENT
END:VCALENDAR