BEGIN:VCALENDAR
VERSION:2.0
PRODID:-//Canadian Boating - ECPv6.15.16//NONSGML v1.0//EN
CALSCALE:GREGORIAN
METHOD:PUBLISH
X-ORIGINAL-URL:https://canadianboating.ca
X-WR-CALDESC:Events for Canadian Boating
REFRESH-INTERVAL;VALUE=DURATION:PT1H
X-Robots-Tag:noindex
X-PUBLISHED-TTL:PT1H
BEGIN:VTIMEZONE
TZID:America/Toronto
BEGIN:DAYLIGHT
TZOFFSETFROM:-0500
TZOFFSETTO:-0400
TZNAME:EDT
DTSTART:20240310T070000
END:DAYLIGHT
BEGIN:STANDARD
TZOFFSETFROM:-0400
TZOFFSETTO:-0500
TZNAME:EST
DTSTART:20241103T060000
END:STANDARD
BEGIN:DAYLIGHT
TZOFFSETFROM:-0500
TZOFFSETTO:-0400
TZNAME:EDT
DTSTART:20250309T070000
END:DAYLIGHT
BEGIN:STANDARD
TZOFFSETFROM:-0400
TZOFFSETTO:-0500
TZNAME:EST
DTSTART:20251102T060000
END:STANDARD
BEGIN:DAYLIGHT
TZOFFSETFROM:-0500
TZOFFSETTO:-0400
TZNAME:EDT
DTSTART:20260308T070000
END:DAYLIGHT
BEGIN:STANDARD
TZOFFSETFROM:-0400
TZOFFSETTO:-0500
TZNAME:EST
DTSTART:20261101T060000
END:STANDARD
END:VTIMEZONE
BEGIN:VEVENT
DTSTART;VALUE=DATE:20250405
DTEND;VALUE=DATE:20250406
DTSTAMP:20260421T223421
CREATED:20250311T142209Z
LAST-MODIFIED:20250311T142209Z
UID:9003241321016370-1743811200-1743897599@canadianboating.ca
SUMMARY:VARC Opener
DESCRIPTION:
URL:https://canadianboating.ca/calendar/varc-opener/
LOCATION:Sidney North Saanich Yacht Club\, Sidney\, BC\, Sidney North Saanich Yacht Club\, Sidney\, BC
CATEGORIES:Regional/Local
END:VEVENT
BEGIN:VEVENT
DTSTART;TZID=America/Toronto:20250405T080000
DTEND;TZID=America/Toronto:20250406T170000
DTSTAMP:20260421T223421
CREATED:20250303T174022Z
LAST-MODIFIED:20250303T174022Z
UID:9003241321016096-1743840000-1743958800@canadianboating.ca
SUMMARY:Vancouver Island 2025 - Advanced Radar
DESCRIPTION:The Advanced Marine Radar seminar is for those who have taken Basic Marine Radar with Kevin Monahan and wish to learn about: • advanced techniques in collision avoidance • navigation using radar as an alternative to electronic charts in areas that do not have accurate electronic charts • managing interactions between radar and other electronic technologies such as AIS\, GPS\, digital compasses • causes and cures of radar overlay errors. \nTo learn more about this event\, please click the link below.
URL:https://canadianboating.ca/calendar/vancouver-island-2025-advanced-radar/
LOCATION:Online Zoom\, Canada
CATEGORIES:Regional/Local
END:VEVENT
BEGIN:VEVENT
DTSTART;VALUE=DATE:20250412
DTEND;VALUE=DATE:20250413
DTSTAMP:20260421T223421
CREATED:20250410T151730Z
LAST-MODIFIED:20250410T152411Z
UID:9003241321016919-1744416000-1744502399@canadianboating.ca
SUMMARY:WVYC 2025 One Design Series
DESCRIPTION:
URL:https://canadianboating.ca/calendar/2025-one-design-series-wrap-up-regatta/
LOCATION:West Vancouver Yacht Club\, Vancouver\, BC\, West Vancouver Yacht Club\, Vancouver\, BC
CATEGORIES:Regional/Local
END:VEVENT
BEGIN:VEVENT
DTSTART;TZID=America/Toronto:20250412T080000
DTEND;TZID=America/Toronto:20250412T170000
DTSTAMP:20260421T223421
CREATED:20250303T174209Z
LAST-MODIFIED:20250303T174209Z
UID:9003241321016100-1744444800-1744477200@canadianboating.ca
SUMMARY:WOW! (Women on Water)
DESCRIPTION:WOW is a one-day boating seminar for women. The intention for this special day is not to exclude men\, but to create a safe and respectful learning environment for women boaters\, both power and sail. \nTo learn more about this event\, please click the link below.
URL:https://canadianboating.ca/calendar/wow-women-on-water/
LOCATION:Mary Winspear Centre\, 2243 Beacon Avenue\, Sidney\, British Columbia\, Canada
CATEGORIES:Regional/Local
END:VEVENT
BEGIN:VEVENT
DTSTART;TZID=America/Toronto:20250418T080000
DTEND;TZID=America/Toronto:20250420T170000
DTSTAMP:20260421T223421
CREATED:20250410T152728Z
LAST-MODIFIED:20250410T152728Z
UID:9003241321016936-1744963200-1745168400@canadianboating.ca
SUMMARY:Southern Straits
DESCRIPTION:
URL:https://canadianboating.ca/calendar/southern-straits/
LOCATION:West Vancouver Yacht Club\, Vancouver\, BC\, West Vancouver Yacht Club\, Vancouver\, BC
CATEGORIES:Regional/Local
END:VEVENT
BEGIN:VEVENT
DTSTART;VALUE=DATE:20250419
DTEND;VALUE=DATE:20250421
DTSTAMP:20260421T223421
CREATED:20250311T142303Z
LAST-MODIFIED:20250311T142303Z
UID:9003241321016372-1745020800-1745193599@canadianboating.ca
SUMMARY:Flights of Spring
DESCRIPTION:
URL:https://canadianboating.ca/calendar/flights-of-spring/
LOCATION:Jericho Sailing Centre in Vancouver\, B.C\, Jericho Sailing Centre in Vancouver\, B.C
CATEGORIES:Regional/Local
END:VEVENT
BEGIN:VEVENT
DTSTART;VALUE=DATE:20250426
DTEND;VALUE=DATE:20250427
DTSTAMP:20260421T223421
CREATED:20250311T142347Z
LAST-MODIFIED:20250311T142347Z
UID:9003241321016374-1745625600-1745711999@canadianboating.ca
SUMMARY:Kitten Cup
DESCRIPTION:
URL:https://canadianboating.ca/calendar/kitten-cup/
LOCATION:Royal Vancouver Yacht Club\, Vacnouver\, BC\, Royal Vancouver Yacht Club\, Vacnouver\, BC
CATEGORIES:Regional/Local
END:VEVENT
BEGIN:VEVENT
DTSTART;VALUE=DATE:20250426
DTEND;VALUE=DATE:20250427
DTSTAMP:20260421T223421
CREATED:20250410T152822Z
LAST-MODIFIED:20250410T152822Z
UID:9003241321016938-1745625600-1745711999@canadianboating.ca
SUMMARY:Halibut Bank/Collingwood Race
DESCRIPTION:
URL:https://canadianboating.ca/calendar/halibut-bank-collingwood-race/
LOCATION:West Vancouver Yacht Club\, Vancouver\, BC\, West Vancouver Yacht Club\, Vancouver\, BC
CATEGORIES:Regional/Local
END:VEVENT
BEGIN:VEVENT
DTSTART;VALUE=DATE:20250426
DTEND;VALUE=DATE:20250428
DTSTAMP:20260421T223421
CREATED:20250303T175408Z
LAST-MODIFIED:20250303T175408Z
UID:9003241321016104-1745625600-1745798399@canadianboating.ca
SUMMARY:Vancouver 2025 - Basic & Intermediate Diesel Operation & Maintenance
DESCRIPTION:Need to understand that engine of yours? This course is for you and those who own and maintain their own sailboat\, or those who want to gain a better understanding of diesel engines\, including proper operation and maintenance. No prior experience or knowledge of diesel engines is necessary. The instructor will explain the operating principles of a marine diesel engine. \nTo learn more about this event\, please click the link below.
URL:https://canadianboating.ca/calendar/vancouver-2025-basic-intermediate-diesel-operation-maintenance/
LOCATION:Burrard Civic Marina\, 1655 Whyte Ave ( South of False Creek Fuels)\, Vancouver\, British Columbia\, Canada
CATEGORIES:Regional/Local
END:VEVENT
END:VCALENDAR