BEGIN:VCALENDAR
VERSION:2.0
PRODID:-//Canadian Boating - ECPv6.15.16//NONSGML v1.0//EN
CALSCALE:GREGORIAN
METHOD:PUBLISH
X-ORIGINAL-URL:https://canadianboating.ca
X-WR-CALDESC:Events for Canadian Boating
REFRESH-INTERVAL;VALUE=DURATION:PT1H
X-Robots-Tag:noindex
X-PUBLISHED-TTL:PT1H
BEGIN:VTIMEZONE
TZID:America/Toronto
BEGIN:DAYLIGHT
TZOFFSETFROM:-0500
TZOFFSETTO:-0400
TZNAME:EDT
DTSTART:20230312T070000
END:DAYLIGHT
BEGIN:STANDARD
TZOFFSETFROM:-0400
TZOFFSETTO:-0500
TZNAME:EST
DTSTART:20231105T060000
END:STANDARD
BEGIN:DAYLIGHT
TZOFFSETFROM:-0500
TZOFFSETTO:-0400
TZNAME:EDT
DTSTART:20240310T070000
END:DAYLIGHT
BEGIN:STANDARD
TZOFFSETFROM:-0400
TZOFFSETTO:-0500
TZNAME:EST
DTSTART:20241103T060000
END:STANDARD
BEGIN:DAYLIGHT
TZOFFSETFROM:-0500
TZOFFSETTO:-0400
TZNAME:EDT
DTSTART:20250309T070000
END:DAYLIGHT
BEGIN:STANDARD
TZOFFSETFROM:-0400
TZOFFSETTO:-0500
TZNAME:EST
DTSTART:20251102T060000
END:STANDARD
BEGIN:DAYLIGHT
TZOFFSETFROM:-0500
TZOFFSETTO:-0400
TZNAME:EDT
DTSTART:20260308T070000
END:DAYLIGHT
BEGIN:STANDARD
TZOFFSETFROM:-0400
TZOFFSETTO:-0500
TZNAME:EST
DTSTART:20261101T060000
END:STANDARD
END:VTIMEZONE
BEGIN:VTIMEZONE
TZID:UTC
BEGIN:STANDARD
TZOFFSETFROM:+0000
TZOFFSETTO:+0000
TZNAME:UTC
DTSTART:20220101T000000
END:STANDARD
END:VTIMEZONE
BEGIN:VTIMEZONE
TZID:America/Vancouver
BEGIN:DAYLIGHT
TZOFFSETFROM:-0800
TZOFFSETTO:-0700
TZNAME:PDT
DTSTART:20220313T100000
END:DAYLIGHT
BEGIN:STANDARD
TZOFFSETFROM:-0700
TZOFFSETTO:-0800
TZNAME:PST
DTSTART:20221106T090000
END:STANDARD
BEGIN:DAYLIGHT
TZOFFSETFROM:-0800
TZOFFSETTO:-0700
TZNAME:PDT
DTSTART:20230312T100000
END:DAYLIGHT
BEGIN:STANDARD
TZOFFSETFROM:-0700
TZOFFSETTO:-0800
TZNAME:PST
DTSTART:20231105T090000
END:STANDARD
BEGIN:DAYLIGHT
TZOFFSETFROM:-0800
TZOFFSETTO:-0700
TZNAME:PDT
DTSTART:20240310T100000
END:DAYLIGHT
BEGIN:STANDARD
TZOFFSETFROM:-0700
TZOFFSETTO:-0800
TZNAME:PST
DTSTART:20241103T090000
END:STANDARD
END:VTIMEZONE
BEGIN:VEVENT
DTSTART;VALUE=DATE:20250823
DTEND;VALUE=DATE:20250825
DTSTAMP:20260419T131732
CREATED:20250521T184801Z
LAST-MODIFIED:20250521T184801Z
UID:9003241321017891-1755907200-1756079999@canadianboating.ca
SUMMARY:2025 Martin 242 "45th Anniversary" North American Championships
DESCRIPTION:Co-Hosted by Royal Vancouver Yacht Club and Kitsilano Yacht Club
URL:https://canadianboating.ca/calendar/2025-martin-242-45th-anniversary-north-american-championships/
LOCATION:Vancouver\, British Columbia\, Canada
CATEGORIES:National
END:VEVENT
BEGIN:VEVENT
DTSTART;VALUE=DATE:20250823
DTEND;VALUE=DATE:20250825
DTSTAMP:20260419T131732
CREATED:20250303T205100Z
LAST-MODIFIED:20250303T205100Z
UID:9003241321016156-1755907200-1756079999@canadianboating.ca
SUMMARY:2025 Canadian Shark 24 Championship
DESCRIPTION:
URL:https://canadianboating.ca/calendar/2025-canadian-shark-24-championship/
LOCATION:Whitby Yacht Club\, Whitby\, ON\, Whitby Yacht Club\, Whitby\, ON
CATEGORIES:National
END:VEVENT
BEGIN:VEVENT
DTSTART;VALUE=DATE:20250809
DTEND;VALUE=DATE:20250817
DTSTAMP:20260419T131732
CREATED:20250710T193121Z
LAST-MODIFIED:20250710T193137Z
UID:9003241321019311-1754697600-1755388799@canadianboating.ca
SUMMARY:Canada Summer Games
DESCRIPTION:
URL:https://canadianboating.ca/calendar/canada-summer-games/
LOCATION:Royal Newfoundland Yacht Club
CATEGORIES:National
END:VEVENT
BEGIN:VEVENT
DTSTART;VALUE=DATE:20250628
DTEND;VALUE=DATE:20250630
DTSTAMP:20260419T131732
CREATED:20250303T204012Z
LAST-MODIFIED:20250520T163226Z
UID:9003241321016147-1751068800-1751241599@canadianboating.ca
SUMMARY:2025 Shark North American Championship
DESCRIPTION:
URL:https://canadianboating.ca/calendar/2025-north-american-championship/
LOCATION:Bay of Quinte Yacht Club\, Belleville\, Ontario\, Bay of Quinte Yacht Club\, Belleville\, Ontario 
CATEGORIES:National
END:VEVENT
BEGIN:VEVENT
DTSTART;VALUE=DATE:20250620
DTEND;VALUE=DATE:20250623
DTSTAMP:20260419T131732
CREATED:20250303T181856Z
LAST-MODIFIED:20250303T181856Z
UID:9003241321016116-1750377600-1750636799@canadianboating.ca
SUMMARY:J24 Canadian Championship
DESCRIPTION:
URL:https://canadianboating.ca/calendar/j24-canadian-championship/
LOCATION:Nepean Sailing Club\, Ottawa\, ON\, Nepean Sailing Club\, Ottawa\, ON
CATEGORIES:National
END:VEVENT
BEGIN:VEVENT
DTSTART;VALUE=DATE:20250510
DTEND;VALUE=DATE:20250517
DTSTAMP:20260419T131732
CREATED:20250303T202514Z
LAST-MODIFIED:20250303T202514Z
UID:9003241321016140-1746835200-1747439999@canadianboating.ca
SUMMARY:2025 Shark World Championship
DESCRIPTION:
URL:https://canadianboating.ca/calendar/2025-shark-world-championship/
LOCATION:Sailing Club Altmünster\, Austria
CATEGORIES:National
END:VEVENT
BEGIN:VEVENT
DTSTART;VALUE=DATE:20240820
DTEND;VALUE=DATE:20240826
DTSTAMP:20260419T131732
CREATED:20240412T152351Z
LAST-MODIFIED:20240412T152351Z
UID:9003241321010306-1724112000-1724630399@canadianboating.ca
SUMMARY:2024 WASZP North American Championship
DESCRIPTION:
URL:https://canadianboating.ca/calendar/2024-waszp-north-american-championship/
LOCATION:Royal Nova Scotia Yacht Squadron\, Halifax\, N.S.\, Royal Nova Scotia Yacht Squadron\, Halifax\, N.S.
CATEGORIES:National
END:VEVENT
BEGIN:VEVENT
DTSTART;VALUE=DATE:20240601
DTEND;VALUE=DATE:20240603
DTSTAMP:20260419T131732
CREATED:20240111T194105Z
LAST-MODIFIED:20240111T201731Z
UID:9003241321008710-1717200000-1717372799@canadianboating.ca
SUMMARY:SailGP Canada Event
DESCRIPTION:
URL:https://canadianboating.ca/calendar/sailgp-canada-event/
LOCATION:Halifax Harbour\, Halifax\, NS\, Halifax Harbour\, Halifax\, NS
CATEGORIES:National
END:VEVENT
BEGIN:VEVENT
DTSTART;VALUE=DATE:20240518
DTEND;VALUE=DATE:20240525
DTSTAMP:20260419T131732
CREATED:20240521T132028Z
LAST-MODIFIED:20240521T132028Z
UID:9003241321011398-1715990400-1716595199@canadianboating.ca
SUMMARY:Canadian Safe Boating Awareness week
DESCRIPTION:celebrated Nationally.
URL:https://canadianboating.ca/calendar/canadian-safe-boating-awareness-week/
CATEGORIES:National
END:VEVENT
BEGIN:VEVENT
DTSTART;VALUE=DATE:20240426
DTEND;VALUE=DATE:20240429
DTSTAMP:20260419T131732
CREATED:20231130T144203Z
LAST-MODIFIED:20231130T144203Z
UID:9003241321007953-1714089600-1714348799@canadianboating.ca
SUMMARY:Canadian 2.4mR class Association: Tred Avon Spring Invitational
DESCRIPTION:
URL:https://canadianboating.ca/calendar/canadian-2-4mr-class-association-tred-avon-spring-invitational/
LOCATION:Tred Avon YC\, Oxford\, MD\, United States
CATEGORIES:National
END:VEVENT
BEGIN:VEVENT
DTSTART;VALUE=DATE:20240328
DTEND;VALUE=DATE:20240331
DTSTAMP:20260419T131732
CREATED:20231130T143910Z
LAST-MODIFIED:20231130T144730Z
UID:9003241321007951-1711584000-1711843199@canadianboating.ca
SUMMARY:Canadian 2.4mR class Association: Can Am Winter Series # 5 (US 2.4mR Championships)
DESCRIPTION:
URL:https://canadianboating.ca/calendar/canadian-2-4mr-class-association-can-am-winter-series-5-us-2-4mr-championships/
LOCATION:Charlotte Harbour YC\, Charlotte Harbour\, FL\, United States
CATEGORIES:National
END:VEVENT
BEGIN:VEVENT
DTSTART;VALUE=DATE:20240325
DTEND;VALUE=DATE:20240327
DTSTAMP:20260419T131732
CREATED:20231130T143751Z
LAST-MODIFIED:20231130T144735Z
UID:9003241321007949-1711324800-1711497599@canadianboating.ca
SUMMARY:Canadian 2.4mR class Association: Can Am Winter Series # 4
DESCRIPTION:
URL:https://canadianboating.ca/calendar/canadian-2-4mr-class-association-can-am-winter-series-4/
LOCATION:Charlotte Harbour YC\, Charlotte Harbour\, FL\, United States
CATEGORIES:National
END:VEVENT
BEGIN:VEVENT
DTSTART;VALUE=DATE:20240217
DTEND;VALUE=DATE:20240219
DTSTAMP:20260419T131732
CREATED:20231130T143401Z
LAST-MODIFIED:20231130T144744Z
UID:9003241321007947-1708128000-1708300799@canadianboating.ca
SUMMARY:Canadian 2.4mR class Association: Can Am Winter Series # 3 (Edge Sailing Midwinters)
DESCRIPTION:
URL:https://canadianboating.ca/calendar/canadian-2-4mr-class-association-can-am-winter-series-3-edge-sailing-midwinters/
LOCATION:Charlotte Harbour YC\, Charlotte Harbour\, FL\, United States
CATEGORIES:National
END:VEVENT
BEGIN:VEVENT
DTSTART;VALUE=DATE:20240203
DTEND;VALUE=DATE:20240211
DTSTAMP:20260419T131732
CREATED:20230525T200652Z
LAST-MODIFIED:20231130T144753Z
UID:38282-1706918400-1707609599@canadianboating.ca
SUMMARY:Colgate Sailing Adventures: Belize\, catamaran fleet
DESCRIPTION:We have cabins available in our hosted sailing vacations: Colgate Sailing Adventures\, for experienced sailors.
URL:https://canadianboating.ca/calendar/colgate-sailing-adventures-belize-catamaran-fleet/
CATEGORIES:National
END:VEVENT
BEGIN:VEVENT
DTSTART;VALUE=DATE:20240125
DTEND;VALUE=DATE:20240128
DTSTAMP:20260419T131732
CREATED:20231130T143141Z
LAST-MODIFIED:20231130T144802Z
UID:9003241321007945-1706140800-1706399999@canadianboating.ca
SUMMARY:Canadian 2.4mR class Association: Can Am Winter Series # 2
DESCRIPTION:
URL:https://canadianboating.ca/calendar/canadian-2-4mr-class-association-can-am-winter-series-2/
LOCATION:Charlotte Harbour YC\, Charlotte Harbour\, FL\, United States
CATEGORIES:National
END:VEVENT
BEGIN:VEVENT
DTSTART;VALUE=DATE:20240122
DTEND;VALUE=DATE:20240124
DTSTAMP:20260419T131732
CREATED:20231130T143028Z
LAST-MODIFIED:20231130T144813Z
UID:9003241321007942-1705881600-1706054399@canadianboating.ca
SUMMARY:Canadian 2.4mR class Association: Can Am Winter Series #1
DESCRIPTION:
URL:https://canadianboating.ca/calendar/canadian-2-4mr-class-association-can-am-winter-series-1/
LOCATION:Charlotte Harbour YC\, Charlotte Harbour\, FL\, United States
CATEGORIES:National
END:VEVENT
BEGIN:VEVENT
DTSTART;VALUE=DATE:20231228
DTEND;VALUE=DATE:20231229
DTSTAMP:20260419T131732
CREATED:20231130T142808Z
LAST-MODIFIED:20231130T144907Z
UID:9003241321007939-1703721600-1703807999@canadianboating.ca
SUMMARY:Canadian 2.4mR class Association: David Bleakney Ice Bowl Regatta
DESCRIPTION:
URL:https://canadianboating.ca/calendar/canadian-2-4mr-class-association-david-bleakney-ice-bowl-regatta/
LOCATION:Royal Victoria YC\, Victoria\, British Columbia\, Canada
CATEGORIES:National
END:VEVENT
BEGIN:VEVENT
DTSTART;VALUE=DATE:20230917
DTEND;VALUE=DATE:20230924
DTSTAMP:20260419T131732
CREATED:20230504T135942Z
LAST-MODIFIED:20230504T135942Z
UID:38256-1694908800-1695513599@canadianboating.ca
SUMMARY:2023 Soling World Championship
DESCRIPTION:
URL:https://canadianboating.ca/calendar/2023-soling-world-championship/
LOCATION:Milwaukee\, Wisconsin- MYC\, Milwaukee\, Wisconsin- MYC
CATEGORIES:National
END:VEVENT
BEGIN:VEVENT
DTSTART;VALUE=DATE:20230915
DTEND;VALUE=DATE:20230918
DTSTAMP:20260419T131732
CREATED:20230417T143805Z
LAST-MODIFIED:20230417T143805Z
UID:34262-1694736000-1694995199@canadianboating.ca
SUMMARY:Melges 24 North American Championships
DESCRIPTION:
URL:https://canadianboating.ca/calendar/melges-24-north-american-championships/
LOCATION:National Yacht Club\, Toronto\, ON\, National Yacht Club\, Toronto\, ON
CATEGORIES:National
END:VEVENT
BEGIN:VEVENT
DTSTART;VALUE=DATE:20230529
DTEND;VALUE=DATE:20230604
DTSTAMP:20260419T131732
CREATED:20220914T180503Z
LAST-MODIFIED:20220914T180503Z
UID:32430-1685318400-1685836799@canadianboating.ca
SUMMARY:2023 Star North American championship
DESCRIPTION:To celebrate the English Bay Star fleet’s 100th anniversary\, we invite all Star sailors to the 2023 Star North American Championship\, powered by Volvo Penta. This prestigious event returns to Royal Vancouver Yacht Club from May 29 to June 3\, 2023. We are planning a feeder event down the beach at the Kitsilano Yacht Club. You won’t want to miss the talk on local conditions by former World Champion and two time Olympic medalist Ross Macdonald. \nWe are planning a full slate of social events. Come for the regatta and stay a little longer to explore the city of Vancouver and the surrounding natural attractions. \nWE ARE LIVE on the North American Star Class website https://na.starchampionships.org \nRoyal Vancouver Yacht Club Star class website https://www.royalvan.com/starclass
URL:https://canadianboating.ca/calendar/2023-star-north-american-championship/
LOCATION:Royal Vancouver Yacht Club\, Vacnouver\, BC\, Royal Vancouver Yacht Club\, Vacnouver\, BC
CATEGORIES:National
END:VEVENT
END:VCALENDAR