BEGIN:VCALENDAR
VERSION:2.0
PRODID:-//Canadian Boating - ECPv6.15.16//NONSGML v1.0//EN
CALSCALE:GREGORIAN
METHOD:PUBLISH
X-ORIGINAL-URL:https://canadianboating.ca
X-WR-CALDESC:Events for Canadian Boating
REFRESH-INTERVAL;VALUE=DURATION:PT1H
X-Robots-Tag:noindex
X-PUBLISHED-TTL:PT1H
BEGIN:VTIMEZONE
TZID:America/Toronto
BEGIN:DAYLIGHT
TZOFFSETFROM:-0500
TZOFFSETTO:-0400
TZNAME:EDT
DTSTART:20230312T070000
END:DAYLIGHT
BEGIN:STANDARD
TZOFFSETFROM:-0400
TZOFFSETTO:-0500
TZNAME:EST
DTSTART:20231105T060000
END:STANDARD
BEGIN:DAYLIGHT
TZOFFSETFROM:-0500
TZOFFSETTO:-0400
TZNAME:EDT
DTSTART:20240310T070000
END:DAYLIGHT
BEGIN:STANDARD
TZOFFSETFROM:-0400
TZOFFSETTO:-0500
TZNAME:EST
DTSTART:20241103T060000
END:STANDARD
BEGIN:DAYLIGHT
TZOFFSETFROM:-0500
TZOFFSETTO:-0400
TZNAME:EDT
DTSTART:20250309T070000
END:DAYLIGHT
BEGIN:STANDARD
TZOFFSETFROM:-0400
TZOFFSETTO:-0500
TZNAME:EST
DTSTART:20251102T060000
END:STANDARD
BEGIN:DAYLIGHT
TZOFFSETFROM:-0500
TZOFFSETTO:-0400
TZNAME:EDT
DTSTART:20260308T070000
END:DAYLIGHT
BEGIN:STANDARD
TZOFFSETFROM:-0400
TZOFFSETTO:-0500
TZNAME:EST
DTSTART:20261101T060000
END:STANDARD
END:VTIMEZONE
BEGIN:VTIMEZONE
TZID:America/Halifax
BEGIN:DAYLIGHT
TZOFFSETFROM:-0400
TZOFFSETTO:-0300
TZNAME:ADT
DTSTART:20230312T060000
END:DAYLIGHT
BEGIN:STANDARD
TZOFFSETFROM:-0300
TZOFFSETTO:-0400
TZNAME:AST
DTSTART:20231105T050000
END:STANDARD
BEGIN:DAYLIGHT
TZOFFSETFROM:-0400
TZOFFSETTO:-0300
TZNAME:ADT
DTSTART:20240310T060000
END:DAYLIGHT
BEGIN:STANDARD
TZOFFSETFROM:-0300
TZOFFSETTO:-0400
TZNAME:AST
DTSTART:20241103T050000
END:STANDARD
BEGIN:DAYLIGHT
TZOFFSETFROM:-0400
TZOFFSETTO:-0300
TZNAME:ADT
DTSTART:20250309T060000
END:DAYLIGHT
BEGIN:STANDARD
TZOFFSETFROM:-0300
TZOFFSETTO:-0400
TZNAME:AST
DTSTART:20251102T050000
END:STANDARD
END:VTIMEZONE
BEGIN:VTIMEZONE
TZID:UTC
BEGIN:STANDARD
TZOFFSETFROM:+0000
TZOFFSETTO:+0000
TZNAME:UTC
DTSTART:20220101T000000
END:STANDARD
END:VTIMEZONE
BEGIN:VEVENT
DTSTART;VALUE=DATE:20250320
DTEND;VALUE=DATE:20250324
DTSTAMP:20260421T043317
CREATED:20250303T202211Z
LAST-MODIFIED:20250303T202211Z
UID:9003241321016138-1742428800-1742774399@canadianboating.ca
SUMMARY:Edmonton Boat show
DESCRIPTION:
URL:https://canadianboating.ca/calendar/edmonton-boat-show/
LOCATION:Edmonton Expo Centre\, Northlands\, Edmonton\, AB\, Edmonton Expo Centre\, Northlands\, Edmonton\, AB
CATEGORIES:Boat Shows
END:VEVENT
BEGIN:VEVENT
DTSTART;TZID=America/Toronto:20250313T080000
DTEND;TZID=America/Toronto:20250316T170000
DTSTAMP:20260421T043317
CREATED:20250303T205601Z
LAST-MODIFIED:20250303T205601Z
UID:9003241321016164-1741852800-1742144400@canadianboating.ca
SUMMARY:Toronto Sportsmen’s Show
DESCRIPTION:
URL:https://canadianboating.ca/calendar/toronto-sportsmens-show/
CATEGORIES:Boat Shows
END:VEVENT
BEGIN:VEVENT
DTSTART;TZID=America/Toronto:20250307T080000
DTEND;TZID=America/Toronto:20250309T170000
DTSTAMP:20260421T043317
CREATED:20250303T205530Z
LAST-MODIFIED:20250303T205530Z
UID:9003241321016162-1741334400-1741539600@canadianboating.ca
SUMMARY:BC Boat & Sportsmen’s Show
DESCRIPTION:
URL:https://canadianboating.ca/calendar/bc-boat-sportsmens-show/
CATEGORIES:Boat Shows
END:VEVENT
BEGIN:VEVENT
DTSTART;VALUE=DATE:20240502
DTEND;VALUE=DATE:20240506
DTSTAMP:20260421T043317
CREATED:20240419T130313Z
LAST-MODIFIED:20240419T130352Z
UID:9003241321010500-1714608000-1714953599@canadianboating.ca
SUMMARY:BC Boat Show
DESCRIPTION:
URL:https://canadianboating.ca/calendar/bc-boat-show/
LOCATION:Port Sidney Marina\, Sidney\, BC\, Port Sidney Marina\, Sidney\, BC
CATEGORIES:Boat Shows
END:VEVENT
BEGIN:VEVENT
DTSTART;VALUE=DATE:20240322
DTEND;VALUE=DATE:20240325
DTSTAMP:20260421T043317
CREATED:20240104T141131Z
LAST-MODIFIED:20240104T141131Z
UID:9003241321008457-1711065600-1711324799@canadianboating.ca
SUMMARY:Moncton Boat & Sportsmen Show
DESCRIPTION:
URL:https://canadianboating.ca/calendar/moncton-boat-sportsmen-show/
LOCATION:Moncton Coliseum\, Moncton\, NB\, Moncton Coliseum\, Moncton\, NB
CATEGORIES:Boat Shows
END:VEVENT
BEGIN:VEVENT
DTSTART;VALUE=DATE:20240222
DTEND;VALUE=DATE:20240226
DTSTAMP:20260421T043317
CREATED:20240104T140923Z
LAST-MODIFIED:20240104T140923Z
UID:9003241321008455-1708560000-1708905599@canadianboating.ca
SUMMARY:Ottawa Boat & Outdoor Show
DESCRIPTION:
URL:https://canadianboating.ca/calendar/ottawa-boat-outdoor-show/
LOCATION:EY Centre\, 4899 Uplands Drive Ottawa\, ON\, EY Centre\, 4899 Uplands Drive Ottawa\, ON
CATEGORIES:Boat Shows
END:VEVENT
BEGIN:VEVENT
DTSTART;VALUE=DATE:20240201
DTEND;VALUE=DATE:20240205
DTSTAMP:20260421T043317
CREATED:20231130T171347Z
LAST-MODIFIED:20231130T171347Z
UID:9003241321007961-1706745600-1707091199@canadianboating.ca
SUMMARY:Halifax International Boat Show
DESCRIPTION:
URL:https://canadianboating.ca/calendar/halifax-international-boat-show-2/
LOCATION:Halifax Exhibition Centre\, Halifax\, NS\, Halifax Exhibition Centre\, Halifax\, NS
CATEGORIES:Boat Shows
END:VEVENT
BEGIN:VEVENT
DTSTART;VALUE=DATE:20240131
DTEND;VALUE=DATE:20240205
DTSTAMP:20260421T043317
CREATED:20240104T140440Z
LAST-MODIFIED:20240104T140440Z
UID:9003241321008451-1706659200-1707091199@canadianboating.ca
SUMMARY:Vancouver International Boat Show
DESCRIPTION:
URL:https://canadianboating.ca/calendar/vancouver-international-boat-show/
LOCATION:BC Place and Granville Island\, Vancouver\, BC\, BC Place and Granville Island\, Vancouver\, BC
CATEGORIES:Boat Shows
END:VEVENT
BEGIN:VEVENT
DTSTART;VALUE=DATE:20240119
DTEND;VALUE=DATE:20240129
DTSTAMP:20260421T043317
CREATED:20240104T140132Z
LAST-MODIFIED:20240104T140132Z
UID:9003241321008449-1705622400-1706486399@canadianboating.ca
SUMMARY:Toronto International Boat Show
DESCRIPTION:
URL:https://canadianboating.ca/calendar/toronto-international-boat-show/
LOCATION:Toronto International Boat Show\, Toronto\, ON\, Toronto International Boat Show\, Toronto\, ON
CATEGORIES:Boat Shows
END:VEVENT
BEGIN:VEVENT
DTSTART;VALUE=DATE:20230202
DTEND;VALUE=DATE:20230206
DTSTAMP:20260421T043317
CREATED:20220929T193618Z
LAST-MODIFIED:20220929T193618Z
UID:32431-1675296000-1675641599@canadianboating.ca
SUMMARY:Halifax International Boat Show
DESCRIPTION:
URL:https://canadianboating.ca/calendar/halifax-international-boat-show/
LOCATION:Halifax Exhibition Centre\, Halifax\, NS\, Halifax Exhibition Centre\, Halifax\, NS
CATEGORIES:Boat Shows
END:VEVENT
END:VCALENDAR