BEGIN:VCALENDAR
VERSION:2.0
PRODID:-//Canadian Boating - ECPv6.15.16//NONSGML v1.0//EN
CALSCALE:GREGORIAN
METHOD:PUBLISH
X-ORIGINAL-URL:https://canadianboating.ca
X-WR-CALDESC:Events for Canadian Boating
REFRESH-INTERVAL;VALUE=DURATION:PT1H
X-Robots-Tag:noindex
X-PUBLISHED-TTL:PT1H
BEGIN:VTIMEZONE
TZID:America/Toronto
BEGIN:DAYLIGHT
TZOFFSETFROM:-0500
TZOFFSETTO:-0400
TZNAME:EDT
DTSTART:20240310T070000
END:DAYLIGHT
BEGIN:STANDARD
TZOFFSETFROM:-0400
TZOFFSETTO:-0500
TZNAME:EST
DTSTART:20241103T060000
END:STANDARD
BEGIN:DAYLIGHT
TZOFFSETFROM:-0500
TZOFFSETTO:-0400
TZNAME:EDT
DTSTART:20250309T070000
END:DAYLIGHT
BEGIN:STANDARD
TZOFFSETFROM:-0400
TZOFFSETTO:-0500
TZNAME:EST
DTSTART:20251102T060000
END:STANDARD
BEGIN:DAYLIGHT
TZOFFSETFROM:-0500
TZOFFSETTO:-0400
TZNAME:EDT
DTSTART:20260308T070000
END:DAYLIGHT
BEGIN:STANDARD
TZOFFSETFROM:-0400
TZOFFSETTO:-0500
TZNAME:EST
DTSTART:20261101T060000
END:STANDARD
END:VTIMEZONE
BEGIN:VEVENT
DTSTART;TZID=America/Toronto:20250907T110000
DTEND;TZID=America/Toronto:20250907T150000
DTSTAMP:20260421T124522
CREATED:20250626T113635Z
LAST-MODIFIED:20250626T113635Z
UID:9003241321018885-1757242800-1757257200@canadianboating.ca
SUMMARY:50th Anniversary Celebration at the Great Lakes Museum
DESCRIPTION:We’re hosting a free\, family-friendly celebration on the Kingston waterfront. \nAnd you’re invited! \nCome enjoy: \n\nBirthday cake & kids’ activities\nLive music\nLocal food vendors\nExclusive behind-the-scenes tours of the Museum and sneak-peak tours of the S.S. Keewatin\n\nThis special day is our way of saying thank you for 50 incredible years of support from our amazing community. \nWe can’t wait to celebrate with you!
URL:https://canadianboating.ca/calendar/50th-anniversary-celebration-at-the-great-lakes-museum/
LOCATION:Great Lakes Museum\, 55 Ontario St.\, Kingston\, ON\, 55 Ontario St\, Kingston\, Ontario\, Canada
CATEGORIES:Boat Shows
END:VEVENT
END:VCALENDAR